BEGIN:VCALENDAR
VERSION:2.0
PRODID:-//Imagina Alcobendas - ECPv5.14.2.1//NONSGML v1.0//EN
CALSCALE:GREGORIAN
METHOD:PUBLISH
X-WR-CALNAME:Imagina Alcobendas
X-ORIGINAL-URL:https://www.imaginalcobendas.org
X-WR-CALDESC:Eventos para Imagina Alcobendas
BEGIN:VTIMEZONE
TZID:Europe/Madrid
BEGIN:DAYLIGHT
TZOFFSETFROM:+0100
TZOFFSETTO:+0200
TZNAME:CEST
DTSTART:20250330T010000
END:DAYLIGHT
BEGIN:STANDARD
TZOFFSETFROM:+0200
TZOFFSETTO:+0100
TZNAME:CET
DTSTART:20251026T010000
END:STANDARD
END:VTIMEZONE
BEGIN:VEVENT
DTSTART;VALUE=DATE:20251206
DTEND;VALUE=DATE:20251208
DTSTAMP:20260426T052027
CREATED:20251111T164403Z
LAST-MODIFIED:20251127T122138Z
UID:46092-1764979200-1765151999@www.imaginalcobendas.org
SUMMARY:Open Days en Faunia
DESCRIPTION:Las personas vecinas de Alcobendas están de suerte\, estas navidades pueden acudir a diferentes parques temáticos de Madrid con precios especiales\, sólo por vivir en Alcobendas.\n¡Esta navidad\, diversión a tope!\nPara disfrutar de esta oferta\, debes adquirir tu entrada a través de la web www.faunia.es con el siguiente código: FAU_ALCOBENDAS_NAV25 y\, si prefieres con menú\,  ALCOBENDAS_MENUNAV25.\nPara obtener el descuento\, será imprescindible presentar un documento que te acredite como residente de Alcobendas. Oferta válida solo para los días indicados. Promoción no acumulable a otros descuentos y/o promociones. Prohibida su venta.\nFaunia:\n\nsábado 6 y domingo 7 de diciembre 2025\nPrecio: 16\,90 €/persona (válido para el empadronado + 3 acompañantes) o entrada con menú (hamburguesa de ternera\, refresco y patatas pequeñas) a 26\,90 €.\n\nwww.faunia.es
URL:https://www.imaginalcobendas.org/evento/open-day-en-faunia/
LOCATION:Faunia\, Avda. Comunidades\, 28.\, Madrid\, 28032\, España
CATEGORIES:Ocio
ATTACH;FMTTYPE=image/png:https://www.imaginalcobendas.org/wp-content/uploads/2025/11/faunia.png
GEO:40.3919413;-3.6126433
X-APPLE-STRUCTURED-LOCATION;VALUE=URI;X-ADDRESS=Faunia Avda. Comunidades 28. Madrid 28032 España;X-APPLE-RADIUS=500;X-TITLE=Avda. Comunidades\, 28.:geo:-3.6126433,40.3919413
END:VEVENT
END:VCALENDAR