BEGIN:VCALENDAR
VERSION:2.0
PRODID:-//Imagina Alcobendas - ECPv5.14.2.1//NONSGML v1.0//EN
CALSCALE:GREGORIAN
METHOD:PUBLISH
X-WR-CALNAME:Imagina Alcobendas
X-ORIGINAL-URL:https://www.imaginalcobendas.org
X-WR-CALDESC:Eventos para Imagina Alcobendas
BEGIN:VTIMEZONE
TZID:Europe/Madrid
BEGIN:DAYLIGHT
TZOFFSETFROM:+0100
TZOFFSETTO:+0200
TZNAME:CEST
DTSTART:20250330T010000
END:DAYLIGHT
BEGIN:STANDARD
TZOFFSETFROM:+0200
TZOFFSETTO:+0100
TZNAME:CET
DTSTART:20251026T010000
END:STANDARD
END:VTIMEZONE
BEGIN:VEVENT
DTSTART;VALUE=DATE:20250628
DTEND;VALUE=DATE:20250630
DTSTAMP:20260424T123443
CREATED:20250504T120328Z
LAST-MODIFIED:20250529T130544Z
UID:42045-1751068800-1751241599@www.imaginalcobendas.org
SUMMARY:Open days: Faunia
DESCRIPTION:Las personas vecinas de Alcobendas están de suerte\, este verano pueden acudir a diferentes parques temáticos de Madrid con precios especiales\, sólo por vivir en Alcobendas. ¡Este verano diversión a tope!!!\nPara disfrutar de la oferta\, presenta el DNI o empadronamiento en las taquillas de los parques para acreditar el empadronamiento y compra tus entradas. Válido para la persona empadronada y 3 más.\nOfertas válidas para los días indicados. Promociones no acumulables a otros descuentos.\nFaunia\n28 y 29 de junio 2025\nPrecio: 16\,90 €/persona o entrada con menú* a 26\,90 €.\nCompra de entradas en la web con el código descuento FAU_ALCOBENDAS25  y el menú con ALCOBENDAS_MENU_25\nwww.faunia.es\n*Menú Fast Food Adulto está compuesto por una hamburguesa 100% carne de ternera (100g.)\, refresco y patatas pequeñas.\nMás parques
URL:https://www.imaginalcobendas.org/evento/open-days-faunia/
LOCATION:Alcobendas\, Madrid\, España
CATEGORIES:Ocio
GEO:40.4167754;-3.7037902
END:VEVENT
BEGIN:VEVENT
DTSTART;TZID=Europe/Madrid:20250628T100000
DTEND;TZID=Europe/Madrid:20250629T210000
DTSTAMP:20260424T123443
CREATED:20250610T101958Z
LAST-MODIFIED:20250610T102206Z
UID:44254-1751104800-1751230800@www.imaginalcobendas.org
SUMMARY:Juego del Calamar
DESCRIPTION:¡Vive el Desafío del Juego del Calamar! El 28 y 29 de junio\, de 10 a 21h\, seis pases.\n¿Te atreves a jugar? Inspirado en la famosa serie\, llega un evento lleno de emoción\, estrategia y diversión… ¡sin eliminaciones!\n¿Qué te espera?\n\nJuegos clásicos reinventados para todos\, accesibles. Adaptados a personas con movilidad reducida.\nRetos por puntos donde lo importante es disfrutar\, reír y conectar con otros.\n¡Premios increíbles! El jugador con más puntos se llevará un juego de mesa o figura de acción oficial de la serie.\nAdemás\, todos los participantes entran en un sorteo de juegos.\n\nActividad organizada por el Consejo de la Juventud y Cómplices de Escape\, con el apoyo de la Concejalía de Juventud\, Infancia y Adolescencia. Dirigida a jóvenes de 14 a 35 años\nInscripción previa obligatoria\, apúntate ya en este enlace. Incluye participación\, sorteo y premios.\nLugar: Aula de la Naturaleza (Avda. Olímpica s/n)\n¿Dudas? Escríbenos a: elconsejo.cja@gmail.com
URL:https://www.imaginalcobendas.org/evento/juego-del-calamar/
LOCATION:Aula de la Naturaleza\, Av. Olímpica s/n\, Alcobendas\, Madrid\, España
CATEGORIES:Imagina Joven,Ocio
ATTACH;FMTTYPE=image/png:https://www.imaginalcobendas.org/wp-content/uploads/2025/06/Juego-Calamar.png
END:VEVENT
END:VCALENDAR