BEGIN:VCALENDAR
VERSION:2.0
PRODID:-//Imagina Alcobendas - ECPv5.14.2.1//NONSGML v1.0//EN
CALSCALE:GREGORIAN
METHOD:PUBLISH
X-WR-CALNAME:Imagina Alcobendas
X-ORIGINAL-URL:https://www.imaginalcobendas.org
X-WR-CALDESC:Eventos para Imagina Alcobendas
BEGIN:VTIMEZONE
TZID:Europe/Madrid
BEGIN:DAYLIGHT
TZOFFSETFROM:+0100
TZOFFSETTO:+0200
TZNAME:CEST
DTSTART:20250330T010000
END:DAYLIGHT
BEGIN:STANDARD
TZOFFSETFROM:+0200
TZOFFSETTO:+0100
TZNAME:CET
DTSTART:20251026T010000
END:STANDARD
END:VTIMEZONE
BEGIN:VEVENT
DTSTART;TZID=Europe/Madrid:20250623T190000
DTEND;TZID=Europe/Madrid:20250623T214500
DTSTAMP:20260424T192855
CREATED:20250619T123533Z
LAST-MODIFIED:20250619T142546Z
UID:44355-1750705200-1750715100@www.imaginalcobendas.org
SUMMARY:Noche de San Juan 2025
DESCRIPTION:Disfruta de una Noche Mágica en el Parque de Andalucía de Alcobendas\nGastronomía: Desde las 19:00h. a cargo de casas regionales.\nActividades:\n\nDe 19:00 a 20:30 h. Animación musical para todos los públicos con DJ en directo.\nDe 19:00 a 21:00 h. Taller familiar sobre el tratamiento de adicciones.\nDe 20:00 a 21:00 h. Taller infantil para los más peques La magia del bosque.\nDe 20:00 a 23:30 h. Talleres de chapas y maquillaje para todos los público y  Pasacalles de las criaturas fantásticas del bosque claro y el bosque oscuro.\n20:45 h.  Actuación de Las Cantareiras.\n21:15 h.  Actuación de la Banda de gaitas de la Xuntanza de Galegos.\n21:45 h. Conxuro da Queimada: A cargo de la Xuntanza de Galegos y degustación de la queimada.\n22:00 h. Actuación de Bras Rodrigo\n23:45 h. Desfile de Antorchas\n00:00 h. Hogueras de San Juan\n\nPROGRAMA COMPLETO
URL:https://www.imaginalcobendas.org/evento/noche-de-san-juan-2025/
LOCATION:Alcobendas\, Madrid\, España
CATEGORIES:Imagina Joven
ATTACH;FMTTYPE=image/jpeg:https://www.imaginalcobendas.org/wp-content/uploads/2025/06/Cartel-WEB-San-Juan-2025-800x600-pixeles.jpg
GEO:40.4167754;-3.7037902
END:VEVENT
END:VCALENDAR