BEGIN:VCALENDAR
VERSION:2.0
PRODID:-//Imagina Alcobendas - ECPv5.14.2.1//NONSGML v1.0//EN
CALSCALE:GREGORIAN
METHOD:PUBLISH
X-WR-CALNAME:Imagina Alcobendas
X-ORIGINAL-URL:https://www.imaginalcobendas.org
X-WR-CALDESC:Eventos para Imagina Alcobendas
BEGIN:VTIMEZONE
TZID:Europe/Madrid
BEGIN:DAYLIGHT
TZOFFSETFROM:+0100
TZOFFSETTO:+0200
TZNAME:CEST
DTSTART:20250330T010000
END:DAYLIGHT
BEGIN:STANDARD
TZOFFSETFROM:+0200
TZOFFSETTO:+0100
TZNAME:CET
DTSTART:20251026T010000
END:STANDARD
END:VTIMEZONE
BEGIN:VEVENT
DTSTART;TZID=Europe/Madrid:20250606T170000
DTEND;TZID=Europe/Madrid:20250606T190000
DTSTAMP:20260425T202301
CREATED:20250513T101750Z
LAST-MODIFIED:20250513T101750Z
UID:44119-1749229200-1749236400@www.imaginalcobendas.org
SUMMARY:Taller de Oratoria. Hablar y convencer
DESCRIPTION:¿Quieres aprender a hablar en público con confianza y claridad? En el taller de oratoria de IMAGINA descubrirás técnicas prácticas para expresarte mejor\, debatir con eficacia y comunicar tus ideas con impacto.\nDurante dos sesiones(viernes 6 y sábdo 7 de junio)\, combinarás teoría y práctica para desarrollar habilidades clave basadas en los pilares de la retórica clásica: claridad (logos)\, credibilidad (ethos) y conexión emocional (pathos).\nDirigido a jóvenes de 16 a 30 años. ¡Plazas limitadas!\nMás información e inscripción
URL:https://www.imaginalcobendas.org/evento/taller-de-oratoria-hablar-y-convencer/2025-06-06/
LOCATION:Alcobendas\, Madrid\, España
CATEGORIES:Cursos y Talleres
ATTACH;FMTTYPE=image/png:https://www.imaginalcobendas.org/wp-content/uploads/2025/05/ORATORIA.png
GEO:40.4167754;-3.7037902
END:VEVENT
BEGIN:VEVENT
DTSTART;TZID=Europe/Madrid:20250606T180000
DTEND;TZID=Europe/Madrid:20250606T193000
DTSTAMP:20260425T202301
CREATED:20250519T121006Z
LAST-MODIFIED:20250519T121919Z
UID:41928-1749232800-1749238200@www.imaginalcobendas.org
SUMMARY:Conecta contigo a través de la naturaleza
DESCRIPTION:A través de la naturaleza aprenderemos de manera práctica a identificar como es nuestro diálogo interno\, para mejorar la percepción que tenemos de nosotros y los demás.\nLa Asesoría Psicológica de IMAGINA nos propone esta sesión gratuita para conectar contigo a través de la naturaleza: manejo de estrés y diálogo interno\, el viernes 6 de junio a las 18h. Esta sesión es para personas de 18 a 35 años.\nMás información \n 
URL:https://www.imaginalcobendas.org/evento/conecta-contigo-a-traves-de-la-naturaleza/
LOCATION:Alcobendas\, Madrid\, España
CATEGORIES:Talleres
ATTACH;FMTTYPE=image/png:https://www.imaginalcobendas.org/wp-content/uploads/2024/05/Meditacion.png
GEO:40.4167754;-3.7037902
END:VEVENT
END:VCALENDAR