BEGIN:VCALENDAR
VERSION:2.0
PRODID:-//Imagina Alcobendas - ECPv5.14.2.1//NONSGML v1.0//EN
CALSCALE:GREGORIAN
METHOD:PUBLISH
X-WR-CALNAME:Imagina Alcobendas
X-ORIGINAL-URL:https://www.imaginalcobendas.org
X-WR-CALDESC:Eventos para Imagina Alcobendas
BEGIN:VTIMEZONE
TZID:Europe/Madrid
BEGIN:DAYLIGHT
TZOFFSETFROM:+0100
TZOFFSETTO:+0200
TZNAME:CEST
DTSTART:20240331T010000
END:DAYLIGHT
BEGIN:STANDARD
TZOFFSETFROM:+0200
TZOFFSETTO:+0100
TZNAME:CET
DTSTART:20241027T010000
END:STANDARD
END:VTIMEZONE
BEGIN:VEVENT
DTSTART;TZID=Europe/Madrid:20240218T090000
DTEND;TZID=Europe/Madrid:20240218T140000
DTSTAMP:20260426T041853
CREATED:20240123T113410Z
LAST-MODIFIED:20240215T122918Z
UID:40911-1708246800-1708264800@www.imaginalcobendas.org
SUMMARY:Raquetas de Nieve en Familia
DESCRIPTION:Suspendido \nLa Asesoría de Naturaleza de Imagina abre inscripciones para esta salida de raquetas de nieve para familias de Alcobendas. Pueden participar en esta salida familias con hijos de edades comprendidas entre 6 y 14 años.\nEs una ruta circular de nivel fácil\, de unos 4 kms (ida y vuelta) y unas 2-3 horas dependiendo del grupo. La dificultad técnica es baja por lo que no es necesaria experiencia previa.\nMás información e inscripciones
URL:https://www.imaginalcobendas.org/evento/raquetas-de-nieve-en-familia/
LOCATION:Alcobendas\, Madrid\, España
CATEGORIES:Ocio
ATTACH;FMTTYPE=image/jpeg:https://www.imaginalcobendas.org/wp-content/uploads/2023/01/Raquetas-nieve.jpg
GEO:40.4167754;-3.7037902
END:VEVENT
END:VCALENDAR