BEGIN:VCALENDAR
VERSION:2.0
PRODID:-//Imagina Alcobendas - ECPv5.14.2.1//NONSGML v1.0//EN
CALSCALE:GREGORIAN
METHOD:PUBLISH
X-WR-CALNAME:Imagina Alcobendas
X-ORIGINAL-URL:https://www.imaginalcobendas.org
X-WR-CALDESC:Eventos para Imagina Alcobendas
BEGIN:VTIMEZONE
TZID:Europe/Madrid
BEGIN:DAYLIGHT
TZOFFSETFROM:+0100
TZOFFSETTO:+0200
TZNAME:CEST
DTSTART:20240331T010000
END:DAYLIGHT
BEGIN:STANDARD
TZOFFSETFROM:+0200
TZOFFSETTO:+0100
TZNAME:CET
DTSTART:20241027T010000
END:STANDARD
END:VTIMEZONE
BEGIN:VEVENT
DTSTART;TZID=Europe/Madrid:20240213T180000
DTEND;TZID=Europe/Madrid:20240213T193000
DTSTAMP:20260425T211106
CREATED:20240123T122325Z
LAST-MODIFIED:20240311T125057Z
UID:40915-1707847200-1707852600@www.imaginalcobendas.org
SUMMARY:Escuela de Familias
DESCRIPTION:La Asesoría Joven de Sexualidad del Servicio de Juventud\, Infancia y Adolescencia organiza un taller con el objetivo de acompañar a las familias el martes a las 18h.\nA las familias les suelen surgir dudas acerca de cómo ofrecer a sus adolescentes una adecuada educación sexual\, como afrontar situaciones en el día a día y como proporcionar el mejor apoyo para vivir la sexualidad de manera más natural.\nMás información
URL:https://www.imaginalcobendas.org/evento/escuela-de-familias/2024-02-13/
LOCATION:Alcobendas\, Madrid\, España
CATEGORIES:Cursos y Talleres,Talleres
ATTACH;FMTTYPE=image/jpeg:https://www.imaginalcobendas.org/wp-content/uploads/2024/01/escuela-de-familias-1.jpg
GEO:40.4167754;-3.7037902
END:VEVENT
BEGIN:VEVENT
DTSTART;TZID=Europe/Madrid:20240213T180000
DTEND;TZID=Europe/Madrid:20240213T190000
DTSTAMP:20260425T211106
CREATED:20240129T185051Z
LAST-MODIFIED:20240212T113319Z
UID:40932-1707847200-1707850800@www.imaginalcobendas.org
SUMMARY:Inteligencia Artificial
DESCRIPTION:Cómo afecta la Inteligencia Artificial a nuestra vida diaria\, redes sociales y chat GPT\n\nLa Asesoría Jurídica de Imagina\, nos propone una nueva sesión gratuita online sobre la inteligencia artificial\, y como afecta a nuestra vida diaria. El equipo jurídico tratará las diferentes cuestiones sobre cómo afecta la inteligencia artificial a nuestra vida diaria\, redes sociales y el chat gpt. En esta sesión podrás resolver todas tus dudas.\n\nLa sesión será el martes 13 de febrero a las 18h\, y podrás apuntarte a través de la web de Imagina.\nApúntate
URL:https://www.imaginalcobendas.org/evento/juridica-ia/
LOCATION:Alcobendas\, Madrid\, España
CATEGORIES:Sesiones informativas
ATTACH;FMTTYPE=image/jpeg:https://www.imaginalcobendas.org/wp-content/uploads/2024/01/juridica-inteligencia-artificial.jpeg
GEO:40.4167754;-3.7037902
END:VEVENT
END:VCALENDAR