BEGIN:VCALENDAR
VERSION:2.0
PRODID:-//Imagina Alcobendas - ECPv5.14.2.1//NONSGML v1.0//EN
CALSCALE:GREGORIAN
METHOD:PUBLISH
X-WR-CALNAME:Imagina Alcobendas
X-ORIGINAL-URL:https://www.imaginalcobendas.org
X-WR-CALDESC:Eventos para Imagina Alcobendas
BEGIN:VTIMEZONE
TZID:Europe/Madrid
BEGIN:DAYLIGHT
TZOFFSETFROM:+0100
TZOFFSETTO:+0200
TZNAME:CEST
DTSTART:20240331T010000
END:DAYLIGHT
BEGIN:STANDARD
TZOFFSETFROM:+0200
TZOFFSETTO:+0100
TZNAME:CET
DTSTART:20241027T010000
END:STANDARD
END:VTIMEZONE
BEGIN:VEVENT
DTSTART;TZID=Europe/Madrid:20240211T173000
DTEND;TZID=Europe/Madrid:20240211T203000
DTSTAMP:20260425T180415
CREATED:20240205T190019Z
LAST-MODIFIED:20240213T135608Z
UID:40994-1707672600-1707683400@www.imaginalcobendas.org
SUMMARY:Carnaval
DESCRIPTION:¡Únete a la celebración del Carnaval Clandestino lleno de color y alegría! Participa en su emocionante concurso de disfraces\, deslumbra con tu creatividad y llévate a casa el premio al mejor atuendo.\nDisfruta de una tarde llena de música y diversión con su karaoke\, donde podrás demostrar tus habilidades vocales. Sumérgete en la fiebre festiva inspirada en el mítico concurso de los 80 en España\, ¡Furor!\n¡No te pierdas esta experiencia única llena de risas\, bailes y momentos inolvidables!\nDomingo 11 de febrero de 17:30 a 20:30 en Imagina\, para jóvenes de 14 a 30 años.\nActividad gratuita\, acceso libre hasta completar aforo.
URL:https://www.imaginalcobendas.org/evento/carnaval-con-la-asociacion-clandestino/
LOCATION:Imagina Alcobendas\, C/Ruperto Chapí\, 18 \, Alcobendas\, Comunidad de Madrid\, 28100\, España
CATEGORIES:Ocio
ATTACH;FMTTYPE=image/png:https://www.imaginalcobendas.org/wp-content/uploads/2020/02/carnaval.png
GEO:40.5480636;-3.6442078
X-APPLE-STRUCTURED-LOCATION;VALUE=URI;X-ADDRESS=Imagina Alcobendas C/Ruperto Chapí 18  Alcobendas Comunidad de Madrid 28100 España;X-APPLE-RADIUS=500;X-TITLE=C/Ruperto Chapí\, 18:geo:-3.6442078,40.5480636
END:VEVENT
END:VCALENDAR