BEGIN:VCALENDAR
VERSION:2.0
PRODID:-//Imagina Alcobendas - ECPv5.14.2.1//NONSGML v1.0//EN
CALSCALE:GREGORIAN
METHOD:PUBLISH
X-WR-CALNAME:Imagina Alcobendas
X-ORIGINAL-URL:https://www.imaginalcobendas.org
X-WR-CALDESC:Eventos para Imagina Alcobendas
BEGIN:VTIMEZONE
TZID:Europe/Madrid
BEGIN:DAYLIGHT
TZOFFSETFROM:+0100
TZOFFSETTO:+0200
TZNAME:CEST
DTSTART:20240331T010000
END:DAYLIGHT
BEGIN:STANDARD
TZOFFSETFROM:+0200
TZOFFSETTO:+0100
TZNAME:CET
DTSTART:20241027T010000
END:STANDARD
END:VTIMEZONE
BEGIN:VEVENT
DTSTART;TZID=Europe/Madrid:20240207T120000
DTEND;TZID=Europe/Madrid:20240207T133000
DTSTAMP:20260425T125350
CREATED:20231204T170025Z
LAST-MODIFIED:20240212T123503Z
UID:40762-1707307200-1707312600@www.imaginalcobendas.org
SUMMARY:Coaching box
DESCRIPTION:Más que ocio ofrece una nueva actividad para mujeres de 16 a 35 años\, Coaching box\, una actividad física en la que las mujeres encontraran un espacio dirigido a fomentar hábitos saludables\, mejorar la perseverancia\, la iniciativa y la autonomía\, facilitando la interacción social\, la convivencia\, el respeto y la disciplina.\nEn definitiva\, se trata de una disciplina idónea para lograr una mayor armonía personal y social y un mayor equilibrio psicofísico. La actividad se realiza los miércoles de 12 a 13:30 en Imagina\, para participar solo tienes que acudir el miércoles a las 12h.
URL:https://www.imaginalcobendas.org/evento/coaching-box/2024-02-07/
LOCATION:Alcobendas\, Madrid\, España
CATEGORIES:Ocio
ATTACH;FMTTYPE=image/jpeg:https://www.imaginalcobendas.org/wp-content/uploads/2023/12/Imagenes-web.jpg
GEO:40.4167754;-3.7037902
END:VEVENT
END:VCALENDAR