BEGIN:VCALENDAR
VERSION:2.0
PRODID:-//Imagina Alcobendas - ECPv5.14.2.1//NONSGML v1.0//EN
CALSCALE:GREGORIAN
METHOD:PUBLISH
X-WR-CALNAME:Imagina Alcobendas
X-ORIGINAL-URL:https://www.imaginalcobendas.org
X-WR-CALDESC:Eventos para Imagina Alcobendas
BEGIN:VTIMEZONE
TZID:Europe/Madrid
BEGIN:DAYLIGHT
TZOFFSETFROM:+0100
TZOFFSETTO:+0200
TZNAME:CEST
DTSTART:20240331T010000
END:DAYLIGHT
BEGIN:STANDARD
TZOFFSETFROM:+0200
TZOFFSETTO:+0100
TZNAME:CET
DTSTART:20241027T010000
END:STANDARD
END:VTIMEZONE
BEGIN:VEVENT
DTSTART;TZID=Europe/Madrid:20240130T180000
DTEND;TZID=Europe/Madrid:20240130T190000
DTSTAMP:20260425T005020
CREATED:20240116T090606Z
LAST-MODIFIED:20240116T090951Z
UID:40856-1706637600-1706641200@www.imaginalcobendas.org
SUMMARY:¿Cómo obtener la nacionalidad?
DESCRIPTION:La Asesoría Jurídica de Imagina\, nos propone una nueva sesión gratuita online sobre cómo obtener la nacionalidad española de la manera más rápida. El equipo jurídico tratará las diferentes cuestiones y opciones para poder obtener la nacionalidad en función de cada situación. En esta sesión podrás resolver todas tus dudas.\nMás info e inscripciones
URL:https://www.imaginalcobendas.org/evento/como-obtener-la-nacionalidad/
LOCATION:Alcobendas\, Madrid\, España
CATEGORIES:Cursos y Talleres,Sesiones informativas,Talleres
ATTACH;FMTTYPE=image/jpeg:https://www.imaginalcobendas.org/wp-content/uploads/2024/01/cerrar-lupa-mostrando-espana-web.jpg
GEO:40.4167754;-3.7037902
END:VEVENT
END:VCALENDAR