BEGIN:VCALENDAR
VERSION:2.0
PRODID:-//Imagina Alcobendas - ECPv5.14.2.1//NONSGML v1.0//EN
CALSCALE:GREGORIAN
METHOD:PUBLISH
X-WR-CALNAME:Imagina Alcobendas
X-ORIGINAL-URL:https://www.imaginalcobendas.org
X-WR-CALDESC:Eventos para Imagina Alcobendas
BEGIN:VTIMEZONE
TZID:Europe/Madrid
BEGIN:DAYLIGHT
TZOFFSETFROM:+0100
TZOFFSETTO:+0200
TZNAME:CEST
DTSTART:20160327T010000
END:DAYLIGHT
BEGIN:STANDARD
TZOFFSETFROM:+0200
TZOFFSETTO:+0100
TZNAME:CET
DTSTART:20161030T010000
END:STANDARD
END:VTIMEZONE
BEGIN:VEVENT
DTSTART;TZID=Europe/Madrid:20160426T191500
DTEND;TZID=Europe/Madrid:20160426T201500
DTSTAMP:20260425T052512
CREATED:20160420T164558Z
LAST-MODIFIED:20161028T121408Z
UID:6103-1461698100-1461701700@www.imaginalcobendas.org
SUMMARY:Deporte urbano
DESCRIPTION:El gimnasio es un espacio donde de forma libre se puede practicar parkour\, trucking\, break dance y cualquier género que tenga que ver con estas disciplinas. Se realiza todos los martes. Para inscribirte solo tienes que pasarte por el C.P. Valdepalitos y hablar con el dinamizador o los jóvenes encargados\, ellos te facilitarán toda la información necesaria. Ya sabes\, si te gusta el deporte urbano y no encuentras un espacio para practicarlo este es tu sitio.
URL:https://www.imaginalcobendas.org/evento/deporte-urbano/
LOCATION:CP. Valdepalitos\, Alcobendas\, Madrid\, España
CATEGORIES:Ocio
ATTACH;FMTTYPE=image/jpeg:https://www.imaginalcobendas.org/wp-content/uploads/2016/04/parkour.jpg
END:VEVENT
END:VCALENDAR