BEGIN:VCALENDAR
VERSION:2.0
PRODID:-//Imagina Alcobendas - ECPv5.14.2.1//NONSGML v1.0//EN
CALSCALE:GREGORIAN
METHOD:PUBLISH
X-WR-CALNAME:Imagina Alcobendas
X-ORIGINAL-URL:https://www.imaginalcobendas.org
X-WR-CALDESC:Eventos para Imagina Alcobendas
BEGIN:VTIMEZONE
TZID:Europe/Madrid
BEGIN:DAYLIGHT
TZOFFSETFROM:+0100
TZOFFSETTO:+0200
TZNAME:CEST
DTSTART:20160327T010000
END:DAYLIGHT
BEGIN:STANDARD
TZOFFSETFROM:+0200
TZOFFSETTO:+0100
TZNAME:CET
DTSTART:20161030T010000
END:STANDARD
END:VTIMEZONE
BEGIN:VEVENT
DTSTART;TZID=Europe/Madrid:20160421T170000
DTEND;TZID=Europe/Madrid:20160421T180000
DTSTAMP:20260425T130322
CREATED:20160420T161453Z
LAST-MODIFIED:20161028T121331Z
UID:6090-1461258000-1461261600@www.imaginalcobendas.org
SUMMARY:Baile
DESCRIPTION:¿Quieres pasar un rato divertido y bailar con los/as amigos/as? Apúntate al nuevo Espacio Creativo de Baile de #LaCiber donde el funky y baile moderno nos envolverá en su ritmo y expresión. En este espacio aprenderemos muchos pasos y ritmos dentro de este estilo tan actual\, de origen de la calles de New York. Déjate llevar por la energía que desprende este baile!
URL:https://www.imaginalcobendas.org/evento/baile/2016-04-21/
LOCATION:Imagina Alcobendas\, C/Ruperto Chapí\, 18 \, Alcobendas\, Comunidad de Madrid\, 28100\, España
CATEGORIES:Ocio
ATTACH;FMTTYPE=image/jpeg:https://www.imaginalcobendas.org/wp-content/uploads/2016/04/baile.jpg
GEO:40.5480636;-3.6442078
X-APPLE-STRUCTURED-LOCATION;VALUE=URI;X-ADDRESS=Imagina Alcobendas C/Ruperto Chapí 18  Alcobendas Comunidad de Madrid 28100 España;X-APPLE-RADIUS=500;X-TITLE=C/Ruperto Chapí\, 18:geo:-3.6442078,40.5480636
END:VEVENT
END:VCALENDAR